Workbook

Sheet Identificação
C3: Provided by ILIND - V1 01/09/2026
C5: PROPOSTA DE ORÇAMENTO
C6: Seed Funding
C9: Tipologia do Projecto | D9: Seed Funding
C10: Data de Início (dd/mm/aaaa)
C11: Duração (de 12 a 18 meses)
C12: Financiamento máximo | D12: 10000
C14: INFORMAÇÃO DO PROJETO
C16: Acrónimo
C17: Título do projecto
C18: Investigador Responsável (IR)
C19: Co-Investigador Responsável (co-IR)
C20: Unidade / Grupo de Investigação
C22: Financiamento total | D22: =Orçamento!O57 -> 0
C24: INSTRUÇÕES
C25: >> Antes de proceder à submissão da sua candidatura terá de preencher este ficheiro e enviá-lo para o GIPO, para validação do orçamento, para o email: gipo@ulusofona.pt, com cc do ILIND (ilind@ulusofona.pt); >> No caso de IRs pertencentes a UI&Ds que dispõem de apoio interno organizado (Gestor de Ciência), o envio de candidaturas deve ser realizado através desse apoio para facilitar a contabilização de candidaturas e a articulação com o GIPO; >> Caso esse apoio não exista, o IR deverá enviar diretamente ao GIPO; >> A COFAC reserva-se o direito de não aceitar candidaturas cujo orçamento não tinha sido validado previamente pelo GIPO.
C27: Contactos importantes para esclarecimentos de dúvidas: | D27: ILIND - ilind@ulusofona.pt
D28: GIPO - gipo@ulusofona.pt
C30: Indicações | D30: >> Este documento deve ser transferido e nunca devem editado diretamente na intranet
D31: >> Aconselhamos o preenchimento das células por ordem sequencial de linha por forma a maximizar o apoio que o formulário pode dar no pré-preenchimento dos campos seguintes. O ficheiro está elaborado por forma a apresentar cálculos automáticos à medida que for sendo introduzida informação com uma prévia validação;
D32: >> Ter em atenção os alertas.
D33: >> Preencher células assinaladas a branco (sem fundo). Alguns campos estão associados a listas pré-definidas;

Sheet Tarefas
B2: Lista de tarefas
B4: Número de tarefas | D4: 10
B6: Lista de Tarefas
B8: Ordem | C8: Designação | D8: Data de ínicio | E8: Duração (meses) | F8: Budget
B9: 1 | F9: =SUMIF(Orçamento!$D$29:$D$33,Tarefas!B9,Orçamento!$O$29:$O$33)+SUMIF(Orçamento!$C$52:$C$79,Tarefas!B9,Orçamento!$G$52:$G$79)+SUMIF(Orçamento!$D$41:$D$45,Tarefas!B9,Orçamento!$O$41:$O$45) -> 0
B10: =IF($D$4>=2,2,"") -> 2 | F10: =SUMIF(Orçamento!$D$29:$D$33,Tarefas!B10,Orçamento!$O$29:$O$33)+SUMIF(Orçamento!$C$52:$C$79,Tarefas!B10,Orçamento!$G$52:$G$79)+SUMIF(Orçamento!$D$41:$D$45,Tarefas!B10,Orçamento!$O$41:$O$45) -> 0
B11: 3 | F11: =SUMIF(Orçamento!$D$29:$D$33,Tarefas!B11,Orçamento!$O$29:$O$33)+SUMIF(Orçamento!$C$52:$C$79,Tarefas!B11,Orçamento!$G$52:$G$79)+SUMIF(Orçamento!$D$41:$D$45,Tarefas!B11,Orçamento!$O$41:$O$45) -> 0
B12: 4 | F12: =SUMIF(Orçamento!$D$29:$D$33,Tarefas!B12,Orçamento!$O$29:$O$33)+SUMIF(Orçamento!$C$52:$C$79,Tarefas!B12,Orçamento!$G$52:$G$79)+SUMIF(Orçamento!$D$41:$D$45,Tarefas!B12,Orçamento!$O$41:$O$45) -> 0
B13: 5 | F13: =SUMIF(Orçamento!$D$29:$D$33,Tarefas!B13,Orçamento!$O$29:$O$33)+SUMIF(Orçamento!$C$52:$C$79,Tarefas!B13,Orçamento!$G$52:$G$79)+SUMIF(Orçamento!$D$41:$D$45,Tarefas!B13,Orçamento!$O$41:$O$45) -> 0
B14: 6 | F14: =SUMIF(Orçamento!$D$29:$D$33,Tarefas!B14,Orçamento!$O$29:$O$33)+SUMIF(Orçamento!$C$52:$C$79,Tarefas!B14,Orçamento!$G$52:$G$79)+SUMIF(Orçamento!$D$41:$D$45,Tarefas!B14,Orçamento!$O$41:$O$45) -> 0
B15: 7 | F15: =SUMIF(Orçamento!$D$29:$D$33,Tarefas!B15,Orçamento!$O$29:$O$33)+SUMIF(Orçamento!$C$52:$C$79,Tarefas!B15,Orçamento!$G$52:$G$79)+SUMIF(Orçamento!$D$41:$D$45,Tarefas!B15,Orçamento!$O$41:$O$45) -> 0
B16: 8 | F16: =SUMIF(Orçamento!$D$29:$D$33,Tarefas!B16,Orçamento!$O$29:$O$33)+SUMIF(Orçamento!$C$52:$C$79,Tarefas!B16,Orçamento!$G$52:$G$79)+SUMIF(Orçamento!$D$41:$D$45,Tarefas!B16,Orçamento!$O$41:$O$45) -> 0
B17: 9 | F17: =SUMIF(Orçamento!$D$29:$D$33,Tarefas!B17,Orçamento!$O$29:$O$33)+SUMIF(Orçamento!$C$52:$C$79,Tarefas!B17,Orçamento!$G$52:$G$79)+SUMIF(Orçamento!$D$41:$D$45,Tarefas!B17,Orçamento!$O$41:$O$45) -> 0
B18: 10 | F18: =SUMIF(Orçamento!$D$29:$D$33,Tarefas!B18,Orçamento!$O$29:$O$33)+SUMIF(Orçamento!$C$52:$C$79,Tarefas!B18,Orçamento!$G$52:$G$79)+SUMIF(Orçamento!$D$41:$D$45,Tarefas!B18,Orçamento!$O$41:$O$45) -> 0
B20: TOTAL | F20: =SUM(F9:F18) -> 0
B22: >> Este template está formatado para o nº de tarefas entre 1 a 10, caso o seu projeto inclua mais do que 10 tarefas, contacte o ILIND para reformatação do template;
B23: >> Em designação coloque o título da tarefa.

Sheet Listas
A1: Missões | B1: Viagem | C1: Estadia | D1: Diária
A2: Internacional Europa | B2: 350 | C2: 150 | D2: 75 | G2: Perfil a contratar | H2: Valor Remuneração Base (Vencimento Bruto) | I2: Subsidio Alimentação/Anual | J2: Custo Médio Mensal (12 meses) | L2: N contratações | M2: =COUNTA(Orçamento!F12:F19,Orçamento!E29:E33) -> 0
A3: Internacional Intercontinental | B3: 750 | C3: 150 | D3: 75 | L3: Listas RH
A4: Nacional | B4: 80 | C4: 120 | D4: 42 | G4: Investigador Coordenador em dedicação exclusiva | H4: 4815.49 | I4: =9.6*22*11 -> 2323.2 | J4: =(H4*14*1.223+I4)/12 -> 7064.5016 | L4: =CONCATENATE(G4, " - ", $M$2+1) -> Investigador Coordenador em dedicação exclusiva - 1
G5: Investigador Principal com habilitação ou agregação em dedicação exclusiva | H5: 4139.63 | I5: =9.6*22*11 -> 2323.2 | J5: =(H5*14*1.223+I5)/12 -> 6100.1621 | L5: =CONCATENATE(G5, " - ", $M$2+1) -> Investigador Principal com habilitação ou agregação em dedicação exclusiva - 1
A6: Participação HEI Lab | D6: Amortization Period (Years) | G6: Investigador Principal/Investigador Auxiliar com habilitação ou agregação em dedicação exclusiva | H6: 3717.22 | I6: =9.6*22*11 -> 2323.2 | J6: =(H6*14*1.223+I6)/12 -> 5497.4534 | L6: =CONCATENATE(G6, " - ", $M$2+1) -> Investigador Principal/Investigador Auxiliar com habilitação ou agregação em dedicação exclusiva - 1
A7: Instituição Principal | D7: 0 | G7: Investigador Auxiliar em dedicação exclusiva | H7: 3294.81 | I7: =9.6*22*11 -> 2323.2 | J7: =(H7*14*1.223+I7)/12 -> 4894.7447 | L7: =CONCATENATE(G7, " - ", $M$2+1) -> Investigador Auxiliar em dedicação exclusiva - 1 | N7: Validação PEX
A8: Instituição Participante | D8: 1 | G8: Doutorado de nível inicial em dedicação exclusiva | H8: 2371.23 | I8: =9.6*22*11 -> 2323.2 | J8: =(H8*14*1.223+I8)/12 -> 3576.95 | L8: =CONCATENATE(G8, " - ", $M$2+1) -> Doutorado de nível inicial em dedicação exclusiva - 1 | N8: =L8 -> Doutorado de nível inicial em dedicação exclusiva - 1
D9: 3 | G9: Assistente de Investigação em tempo integral | H9: 1737.04 | I9: =9.6*22*11 -> 2323.2 | J9: =(H9*14*1.223+I9)/12 -> 2672.0666 | L9: =CONCATENATE(G9, " - ", $M$2+1) -> Assistente de Investigação em tempo integral - 1 | N9: =L10 -> Contrato Técnico Superior (licenciado ou mestre) - 1
D10: 4 | G10: Contrato Técnico Superior (licenciado ou mestre) | H10: 1137.73 | I10: =9.6*22*11 -> 2323.2 | J10: =(H10*14*1.223+I10)/12 -> 1816.9511 | L10: =CONCATENATE(G10, " - ", $M$2+1) -> Contrato Técnico Superior (licenciado ou mestre) - 1
A11: Tipologia de projecto | B11: Duração Meses | D11: 5 | G11: Contrato técnico Administrativo | H11: 870 | I11: =9.6*22*11 -> 2323.2 | J11: =(H11*14*1.223+I11)/12 -> 1434.945 | L11: =CONCATENATE(G11, " - ", $M$2+1) -> Contrato técnico Administrativo - 1
A12: Exploratório | B12: 18 | D12: 7
A13: PTDC | B13: 36 | D13: 8 | G13: Tipo de Bolsa | H13: Valor Mensal da Bolsa | I13: Seguro Social Voluntário Mensal | J13: Seguro Acidentes Pessoais (Anual)
A14: LaCaixa Social | D14: 10 | L14: FCT
A15: Erasmus+ | G15: (BPD - FCT) Bolsa de Investigação Pós-Doutoral | H15: 1951 | I15: 158.99 | J15: 75 | L15: (BPD - FCT) Bolsa de Investigação Pós-Doutoral | N15: =CONCATENATE(G19, " - ","FCT") -> (BIC - FCT) Bolsas de Iniciação Científica - FCT
A16: Se outro, especificar tipologia de projecto | G16: (BI - FCT) Bolsa de Investigação Doutores | H16: 1951 | I16: 158.99 | J16: 75 | L16: (BI - FCT) Bolsa de Investigação Doutores | N16: =CONCATENATE(G16, " - ","FCT") -> (BI - FCT) Bolsa de Investigação Doutores - FCT
G17: (BI - FCT) Bolsa de Investigação Mestres | H17: =1359.64+50 -> 1409.64 | I17: 158.99 | J17: 75 | L17: (BI - FCT) Bolsa de Investigação Mestres | N17: =CONCATENATE(G17, " - ","FCT") -> (BI - FCT) Bolsa de Investigação Mestres - FCT
G18: (BI - FCT) Bolsa de Investigação Licenciado | H18: =1090.98+50 -> 1140.98 | I18: 158.99 | J18: 75 | L18: (BI - FCT) Bolsa de Investigação Licenciado | N18: =CONCATENATE(G18, " - ","FCT") -> (BI - FCT) Bolsa de Investigação Licenciado - FCT
A19: estipulado | B19: =Identificação!C14 -> INFORMAÇÃO DO PROJETO | G19: (BIC - FCT) Bolsas de Iniciação Científica | H19: 751.12 | I19: 158.99 | J19: 75 | L19: (BIC - FCT) Bolsas de Iniciação Científica | N19: =CONCATENATE(#REF!, " - ","FCT") -> #REF!
N20: (BIPD- COFAC) Bolsas de investigação pós-doutoral
A21: Entidades Parceiras | B21: Ref lista | C21: Ref orç | D21: Lista | G21: (BIPD- COFAC) Bolsas de investigação pós-doutoral | L21: COFAC | N21: (BI- COFAC) Bolsas de investigação
A22: COFAC | C22: =ROW(#REF!) -> #REF! | D22: COFAC | G22: (BI- COFAC) Bolsas de investigação | L22: (BIPD- COFAC) Bolsas de investigação pós-doutoral | N22: (BIC- COFAC) Bolsas de iniciação científica
A23: Parceiro 1 / principal | B23: =ROW(Identificação!B30) -> 30 | C23: =C22+14 -> #REF! | D23: =IF(AND(Identificação!$C$30<>""),Identificação!$C$30,"") -> Indicações | G23: (BIC- COFAC) Bolsas de iniciação científica | L23: (BI- COFAC) Bolsas de investigação | N23: (BAGI – COFAC) Bolsa de apoio e gestão investigação
A24: Parceiro 2 | B24: =B23+2 -> 32 | C24: =C23+14 -> #REF! | D24: {=IF(INDIRECT(_xlfn.CONCAT("Identificação!B", B24)) <> 0, INDIRECT(_xlfn.CONCAT("Identificação!B", B24)), "")} | G24: (BAGI – COFAC) Bolsa de apoio e gestão investigação | L24: (BIC- COFAC) Bolsas de iniciação científica
A25: Parceiro 3 | B25: =B24+2 -> 34 | C25: =C24+14 -> #REF! | D25: {=IF(INDIRECT(_xlfn.CONCAT("Identificação!B", B25)) <> 0, INDIRECT(_xlfn.CONCAT("Identificação!B", B25)), "")} | L25: (BAGI – COFAC) Bolsa de apoio e gestão investigação
A26: Parceiro 4 | B26: =B25+2 -> 36 | C26: =C25+14 -> #REF! | D26: {=IF(INDIRECT(_xlfn.CONCAT("Identificação!B", B26)) <> 0, INDIRECT(_xlfn.CONCAT("Identificação!B", B26)), "")}
A27: Parceiro 5 | B27: =B26+2 -> 38 | C27: =C26+14 -> #REF! | D27: {=IF(INDIRECT(_xlfn.CONCAT("Identificação!B", B27)) <> 0, INDIRECT(_xlfn.CONCAT("Identificação!B", B27)), "")}
A28: Parceiro 6 | B28: =B27+2 -> 40 | C28: =C27+14 -> #REF! | D28: {=IF(INDIRECT(_xlfn.CONCAT("Identificação!B", B28)) <> 0, INDIRECT(_xlfn.CONCAT("Identificação!B", B28)), "")}
A29: Parceiro 7 | B29: =B28+2 -> 42 | C29: =C28+14 -> #REF! | D29: {=IF(INDIRECT(_xlfn.CONCAT("Identificação!B", B29)) <> 0, INDIRECT(_xlfn.CONCAT("Identificação!B", B29)), "")} | E29: Não programado a partir do 7 parceiro, atenção 1ª condição na formula Validação B8
A30: Parceiro 8 | B30: =B29+2 -> 44 | C30: =C29+14 -> #REF! | D30: {=IF(INDIRECT(_xlfn.CONCAT("Identificação!B", B30)) <> 0, INDIRECT(_xlfn.CONCAT("Identificação!B", B30)), "")}
A31: Parceiro 9 | B31: =B30+2 -> 46 | C31: =C30+14 -> #REF! | D31: {=IF(INDIRECT(_xlfn.CONCAT("Identificação!B", B31)) <> 0, INDIRECT(_xlfn.CONCAT("Identificação!B", B31)), "")}
A32: Parceiro 10 | B32: =B31+2 -> 48 | C32: =C31+14 -> #REF! | D32: {=IF(INDIRECT(_xlfn.CONCAT("Identificação!B", B32)) <> 0, INDIRECT(_xlfn.CONCAT("Identificação!B", B32)), "")}
A37: Equipa | I37: anos do projecto
A38: PI | G38: Entidade Financiadora | I38: data de inicio | J38: Anos
A39: Team Member | G39: Fundação para a Ciência e Tecnologia | I39: =IF(Identificação!$C$13="","",Identificação!$C$13) | J39: 2027
G40: Fundação La Caixa | I40: Duração meses | J40: 2028
G41: Fundção Bial | I41: =IF(Identificação!$C$14="","",Identificação!$C$14) -> INFORMAÇÃO DO PROJETO | J41: 2029
G42: EU | I42: Fim do Projecto
G43: Se outro, especificar entidade financiadora | I43: =IF(OR(I39="",I41=""),"",EDATE(I39,I41)-1)
I45: Taxa OH | J45: 0

Sheet Orçamento
B2: Seed Funding
B4: Tabela Orçamento
F6: Os valores a inserir na plataforma serão os que constam nas colunas a azul, assim como o nº total de meses que cada pessoa vai trabalhar no projeto
F8: Custos Pessoal Temporário - Investigadores (Novas contratações)
E10: Parceiro | F10: Perfil a contratar | G10: Valor Remuneração Base (Vencimento Bruto) | H10: Subsidio Alimentação/Anual | I10: Custo Médio Mensal (12 meses) | J10: =Listas!$J$39 -> 2027 | L10: =Listas!$J$40 -> 2028 | N10: =Listas!$J$41 -> 2029 | P10: Custo envolvido (Rem.+SS+Sub.Alimentação)
J11: Nº Meses | K11: Valor | L11: Nº Meses | M11: Valor | N11: Nº Meses | O11: Valor
G12: =IF(F12="",0,VLOOKUP(LEFT(F12,FIND(" - ",F12,30)-1),Listas!$G$4:$J$11,2,FALSE)) -> 0 | H12: =IF(F12="",0,VLOOKUP(LEFT(F12,FIND(" - ",F12,30)-1),Listas!$G$4:$J$11,3,FALSE)) -> 0 | I12: =IF(F12="",0,VLOOKUP(LEFT(F12,FIND(" - ",F12,30)-1),Listas!$G$4:$J$11,4,FALSE)) -> 0 | K12: =I12*J12 -> 0 | M12: =I12*L12 -> 0 | O12: =I12*N12 -> 0 | P12: =#REF!+O12+M12+K12 -> #REF!
G13: =IF(F13="",0,VLOOKUP(LEFT(F13,FIND(" - ",F13,30)-1),Listas!$G$4:$J$11,2,FALSE)) -> 0 | H13: =IF(F13="",0,VLOOKUP(LEFT(F13,FIND(" - ",F13,30)-1),Listas!$G$4:$J$11,3,FALSE)) -> 0 | I13: =IF(F13="",0,VLOOKUP(LEFT(F13,FIND(" - ",F13,30)-1),Listas!$G$4:$J$11,4,FALSE)) -> 0 | K13: =I13*J13 -> 0 | M13: =I13*L13 -> 0 | O13: =I13*N13 -> 0 | P13: =#REF!+O13+M13+K13 -> #REF!
G14: =IF(F14="",0,VLOOKUP(LEFT(F14,FIND(" - ",F14,30)-1),Listas!$G$4:$J$11,2,FALSE)) -> 0 | H14: =IF(F14="",0,VLOOKUP(LEFT(F14,FIND(" - ",F14,30)-1),Listas!$G$4:$J$11,3,FALSE)) -> 0 | I14: =IF(F14="",0,VLOOKUP(LEFT(F14,FIND(" - ",F14,30)-1),Listas!$G$4:$J$11,4,FALSE)) -> 0 | K14: =I14*J14 -> 0 | M14: =I14*L14 -> 0 | O14: =I14*N14 -> 0 | P14: =#REF!+O14+M14+K14 -> #REF!
G15: =IF(F15="",0,VLOOKUP(LEFT(F15,FIND(" - ",F15,30)-1),Listas!$G$4:$J$11,2,FALSE)) -> 0 | H15: =IF(F15="",0,VLOOKUP(LEFT(F15,FIND(" - ",F15,30)-1),Listas!$G$4:$J$11,3,FALSE)) -> 0 | I15: =IF(F15="",0,VLOOKUP(LEFT(F15,FIND(" - ",F15,30)-1),Listas!$G$4:$J$11,4,FALSE)) -> 0 | K15: =I15*J15 -> 0 | M15: =I15*L15 -> 0 | O15: =I15*N15 -> 0 | P15: =#REF!+O15+M15+K15 -> #REF!
G16: =IF(F16="",0,VLOOKUP(LEFT(F16,FIND(" - ",F16,30)-1),Listas!$G$4:$J$11,2,FALSE)) -> 0 | H16: =IF(F16="",0,VLOOKUP(LEFT(F16,FIND(" - ",F16,30)-1),Listas!$G$4:$J$11,3,FALSE)) -> 0 | I16: =IF(F16="",0,VLOOKUP(LEFT(F16,FIND(" - ",F16,30)-1),Listas!$G$4:$J$11,4,FALSE)) -> 0 | K16: =I16*J16 -> 0 | M16: =I16*L16 -> 0 | O16: =I16*N16 -> 0 | P16: =#REF!+O16+M16+K16 -> #REF!
G17: =IF(F17="",0,VLOOKUP(LEFT(F17,FIND(" - ",F17,30)-1),Listas!$G$4:$J$11,2,FALSE)) -> 0 | H17: =IF(F17="",0,VLOOKUP(LEFT(F17,FIND(" - ",F17,30)-1),Listas!$G$4:$J$11,3,FALSE)) -> 0 | I17: =IF(F17="",0,VLOOKUP(LEFT(F17,FIND(" - ",F17,30)-1),Listas!$G$4:$J$11,4,FALSE)) -> 0 | K17: =I17*J17 -> 0 | M17: =I17*L17 -> 0 | O17: =I17*N17 -> 0 | P17: =#REF!+O17+M17+K17 -> #REF!
G18: =IF(F18="",0,VLOOKUP(LEFT(F18,FIND(" - ",F18,30)-1),Listas!$G$4:$J$11,2,FALSE)) -> 0 | H18: =IF(F18="",0,VLOOKUP(LEFT(F18,FIND(" - ",F18,30)-1),Listas!$G$4:$J$11,3,FALSE)) -> 0 | I18: =IF(F18="",0,VLOOKUP(LEFT(F18,FIND(" - ",F18,30)-1),Listas!$G$4:$J$11,4,FALSE)) -> 0 | K18: =I18*J18 -> 0 | M18: =I18*L18 -> 0 | O18: =I18*N18 -> 0 | P18: =#REF!+O18+M18+K18 -> #REF!
G19: =IF(F19="",0,VLOOKUP(LEFT(F19,FIND(" - ",F19,30)-1),Listas!$G$4:$J$11,2,FALSE)) -> 0 | H19: =IF(F19="",0,VLOOKUP(LEFT(F19,FIND(" - ",F19,30)-1),Listas!$G$4:$J$11,3,FALSE)) -> 0 | I19: =IF(F19="",0,VLOOKUP(LEFT(F19,FIND(" - ",F19,30)-1),Listas!$G$4:$J$11,4,FALSE)) -> 0 | K19: =I19*J19 -> 0 | M19: =I19*L19 -> 0 | O19: =I19*N19 -> 0 | P19: =#REF!+O19+M19+K19 -> #REF!
I20: TOTAL | K20: =SUM(K12:K19) -> 0 | M20: =SUM(M12:M19) -> 0 | O20: =SUM(O12:O19) -> 0 | P20: =SUM(P12:P19) -> #REF!
F23: Custos Pessoal Temporário - Bolsas (Novas contratações )
B24: BOLSAS FCT
B25: Ao orçamentar bolseiros segundo o regulamento FCT, devem seguir obrigatoriamente o Regulamento de Bolsas de Investigação da FCT e o Estatuto do Bolseiro de Investigação (EBI)
B27: Tipo de Despesa | C27: NOTA | D27: Tarefas | E27: Tipo de Bolsa | F27: Valor Mensal da Bolsa | G27: Seguro Social Voluntário Mensal | H27: Seguro Acidentes Pessoais (Anual) | I27: =Listas!$J$39 -> 2027 | K27: =Listas!$J$40 -> 2028 | M27: =Listas!$J$41 -> 2029 | O27: Custo envolvido (Bolsa)
I28: Nº Meses | J28: Valor | K28: Nº Meses | L28: Valor | M28: Nº Meses | N28: Valor
B29: Recursos Humanos Contratação de Bolseiros REGULAMENTO FCT | C29: Ao seguir o Regulamento de Bolsas de Investigação da FCT, é obrigatória a aplicação dos valores por esta estipulados. Não é permitida a sua alteração. | F29: =IF($E29="",0,VLOOKUP($E29,Listas!$G$15:$H$19,2,FALSE)) -> 0 | G29: =IF($E29="",0,VLOOKUP($E29,Listas!$G$15:$I$19,3,FALSE())) -> 0 | H29: =IF($E29="",0,VLOOKUP($E29,Listas!$G$15:$J$19,4,FALSE())) -> 0 | J29: =F29*I29+G29*I29+(H29/12*I29) -> 0 | L29: =IF(K29=0, 0, F29*K29 + G29*K29 + (H29/12*K29) + 50) -> 0 | N29: =IF(M29=0,0,F29*M29+G29*M29+(H29/12*M29)+100) -> 0 | O29: =J29+L29+N29 -> 0
F30: =IF($E30="",0,VLOOKUP($E30,Listas!$G$15:$H$19,2,FALSE)) -> 0 | G30: =IF($E30="",0,VLOOKUP($E30,Listas!$G$15:$I$19,3,FALSE())) -> 0 | H30: =IF($E30="",0,VLOOKUP($E30,Listas!$G$15:$J$19,4,FALSE())) -> 0 | J30: =F30*I30+G30*I30+(H30/12*I30) -> 0 | L30: =IF(K30=0, 0, F30*K30 + G30*K30 + (H30/12*K30) + 50) -> 0 | N30: =IF(M30=0,0,F30*M30+G30*M30+(H30/12*M30)+100) -> 0 | O30: =J30+L30+N30 -> 0
F31: =IF($E31="",0,VLOOKUP($E31,Listas!$G$15:$H$19,2,FALSE)) -> 0 | G31: =IF($E31="",0,VLOOKUP($E31,Listas!$G$15:$I$19,3,FALSE())) -> 0 | H31: =IF($E31="",0,VLOOKUP($E31,Listas!$G$15:$J$19,4,FALSE())) -> 0 | J31: =F31*I31+G31*I31+(H31/12*I31) -> 0 | L31: =IF(K31=0, 0, F31*K31 + G31*K31 + (H31/12*K31) + 50) -> 0 | N31: =IF(M31=0,0,F31*M31+G31*M31+(H31/12*M31)+100) -> 0 | O31: =J31+L31+N31 -> 0
F32: =IF($E32="",0,VLOOKUP($E32,Listas!$G$15:$H$19,2,FALSE)) -> 0 | G32: =IF($E32="",0,VLOOKUP($E32,Listas!$G$15:$I$19,3,FALSE())) -> 0 | H32: =IF($E32="",0,VLOOKUP($E32,Listas!$G$15:$J$19,4,FALSE())) -> 0 | J32: =F32*I32+G32*I32+(H32/12*I32) -> 0 | L32: =IF(K32=0, 0, F32*K32 + G32*K32 + (H32/12*K32) + 50) -> 0 | N32: =IF(M32=0,0,F32*M32+G32*M32+(H32/12*M32)+100) -> 0 | O32: =J32+L32+N32 -> 0
F33: =IF($E33="",0,VLOOKUP($E33,Listas!$G$15:$H$19,2,FALSE)) -> 0 | G33: =IF($E33="",0,VLOOKUP($E33,Listas!$G$15:$I$19,3,FALSE())) -> 0 | H33: =IF($E33="",0,VLOOKUP($E33,Listas!$G$15:$J$19,4,FALSE())) -> 0 | J33: =F33*I33+G33*I33+(H33/12*I33) -> 0 | L33: =IF(K33=0, 0, F33*K33 + G33*K33 + (H33/12*K33) + 50) -> 0 | N33: =IF(M33=0,0,F33*M33+G33*M33+(H33/12*M33)+100) -> 0 | O33: =J33+L33+N33 -> 0
H34: TOTAL | J34: =SUM(J29:J33) -> 0 | L34: =SUM(L29:L33) -> 0 | N34: =SUM(N29:N33) -> 0 | O34: =SUM(O29:O33) -> 0
B36: BOLSAS COFAC
B37: Ao orçamentar bolseiros segundo o regulamento COFAC, deem seguir obrigatoriamente o Regulamento de Bolsas de Investigação (Ordem de Serviço nº.98/2025) e o Estatuto de Bolseiro de Investigação (Ordem de Serviço nº.97/2025)
B39: Tipo de Despesa | C39: NOTA | D39: Tarefas | E39: Tipo de Bolsa | F39: Valor Mensal da Bolsa | G39: Seguro Social Voluntário Mensal | H39: Seguro Acidentes Pessoais (Anual) | I39: =Listas!$J$39 -> 2027 | K39: =Listas!$J$40 -> 2028 | M39: =Listas!$J$41 -> 2029 | O39: Custo envolvido (Bolsa)
I40: Nº Meses | J40: Valor | K40: Nº Meses | L40: Valor | M40: Nº Meses | N40: Valor
B41: Recursos Humanos Contratação de Bolseiros REGULAMENTO COFAC | C41: Ao seguir o Regulamento de Bolsas de Investigação da COFAC, é permitida a definição livre dos valores. | G41: 0 | H41: =IF(E41="",0,Listas!$J$15) -> 0 | J41: =F41*I41+G41*I41+(H41/12*I41) -> 0 | L41: =IF(K41=0, 0, F41*K41 + G41*K41 + (H41/12*K41)) -> 0 | N41: =IF(M41=0,0,F41*M41+G41*M41+(H41/12*M41)) -> 0 | O41: =J41+L41+N41 -> 0
F42: =IF(E42="",0,0) -> 0 | G42: 0 | H42: =IF(E42="",0,Listas!$J$15) -> 0 | J42: =F42*I42+G42*I42+(H42/12*I42) -> 0 | L42: =IF(K42=0, 0, F42*K42 + G42*K42 + (H42/12*K42)) -> 0 | N42: =IF(M42=0,0,F42*M42+G42*M42+(H42/12*M42)) -> 0 | O42: =J42+L42+N42 -> 0
F43: =IF(E43="",0,0) -> 0 | G43: 0 | H43: =IF(E43="",0,Listas!$J$15) -> 0 | J43: =F43*I43+G43*I43+(H43/12*I43) -> 0 | L43: =IF(K43=0, 0, F43*K43 + G43*K43 + (H43/12*K43)) -> 0 | N43: =IF(M43=0,0,F43*M43+G43*M43+(H43/12*M43)) -> 0 | O43: =J43+L43+N43 -> 0
F44: =IF(E44="",0,0) -> 0 | G44: 0 | H44: =IF(E44="",0,Listas!$J$15) -> 0 | J44: =F44*I44+G44*I44+(H44/12*I44) -> 0 | L44: =IF(K44=0, 0, F44*K44 + G44*K44 + (H44/12*K44)) -> 0 | N44: =IF(M44=0,0,F44*M44+G44*M44+(H44/12*M44)) -> 0 | O44: =J44+L44+N44 -> 0
F45: =IF(E45="",0,0) -> 0 | G45: 0 | H45: =IF(E45="",0,Listas!$J$15) -> 0 | J45: =F45*I45+G45*I45+(H45/12*I45) -> 0 | L45: =IF(K45=0, 0, F45*K45 + G45*K45 + (H45/12*K45)) -> 0 | N45: =IF(M45=0,0,F45*M45+G45*M45+(H45/12*M45)) -> 0 | O45: =J45+L45+N45 -> 0
H46: TOTAL | J46: =SUM(J41:J45) -> 0 | L46: =SUM(L41:L45) -> 0 | N46: =SUM(N41:N45) -> 0 | O46: =SUM(O41:O45) -> 0
B48: Outros Custos
B51: Tipo de Despesa | C51: Tarefa | D51: Ano | E51: Descrição | G51: Valor | I51: Classificação das Despesas | L51: GERAL | O51: Total
L52: =Listas!$J$39 -> 2027 | M52: =Listas!$J$40 -> 2028 | N52: =Listas!$J$41 -> 2029
I53: Recursos Humanos | L53: =J34+J46 -> 0 | M53: =L34+L46 -> 0 | N53: =N34+N46 -> 0 | O53: =L53+M53+N53 -> 0
...

Sheet NAO MEXER FORMAT COND
B2: =Identificação!D9 -> Seed Funding
B4: Tabela Orçamento
F6: Os valores a inserir na plataforma serão os que constam nas colunas a azul, assim como o nº total de meses que cada pessoa vai trabalhar no projeto
F8: Custos Pessoal Temporário - Investigadores (Novas contratações)
E10: Parceiro | F10: Perfil a contratar | G10: Valor Remuneração Base (Vencimento Bruto) | H10: Subsidio Alimentação/Anual | I10: Custo Médio Mensal (12 meses) | J10: =Listas!$J$39 -> 2027 | L10: =Listas!$J$40 -> 2028 | N10: =Listas!$J$41 -> 2029 | P10: Custo envolvido (Rem.+SS+Sub.Alimentação)
J11: Nº Meses | K11: Valor | L11: Nº Meses | M11: Valor | N11: Nº Meses | O11: Valor
G12: =IF(F12="",0,VLOOKUP(LEFT(F12,FIND(" - ",F12,30)-1),Listas!$G$4:$J$11,2,FALSE)) -> 0 | H12: =IF(F12="",0,VLOOKUP(LEFT(F12,FIND(" - ",F12,30)-1),Listas!$G$4:$J$11,3,FALSE)) -> 0 | I12: =IF(F12="",0,VLOOKUP(LEFT(F12,FIND(" - ",F12,30)-1),Listas!$G$4:$J$11,4,FALSE)) -> 0 | K12: =I12*J12 -> 0 | M12: =I12*L12 -> 0 | O12: =I12*N12 -> 0 | P12: =#REF!+O12+M12+K12 -> #REF!
G13: =IF(F13="",0,VLOOKUP(LEFT(F13,FIND(" - ",F13,30)-1),Listas!$G$4:$J$11,2,FALSE)) -> 0 | H13: =IF(F13="",0,VLOOKUP(LEFT(F13,FIND(" - ",F13,30)-1),Listas!$G$4:$J$11,3,FALSE)) -> 0 | I13: =IF(F13="",0,VLOOKUP(LEFT(F13,FIND(" - ",F13,30)-1),Listas!$G$4:$J$11,4,FALSE)) -> 0 | K13: =I13*J13 -> 0 | M13: =I13*L13 -> 0 | O13: =I13*N13 -> 0 | P13: =#REF!+O13+M13+K13 -> #REF!
G14: =IF(F14="",0,VLOOKUP(LEFT(F14,FIND(" - ",F14,30)-1),Listas!$G$4:$J$11,2,FALSE)) -> 0 | H14: =IF(F14="",0,VLOOKUP(LEFT(F14,FIND(" - ",F14,30)-1),Listas!$G$4:$J$11,3,FALSE)) -> 0 | I14: =IF(F14="",0,VLOOKUP(LEFT(F14,FIND(" - ",F14,30)-1),Listas!$G$4:$J$11,4,FALSE)) -> 0 | K14: =I14*J14 -> 0 | M14: =I14*L14 -> 0 | O14: =I14*N14 -> 0 | P14: =#REF!+O14+M14+K14 -> #REF!
G15: =IF(F15="",0,VLOOKUP(LEFT(F15,FIND(" - ",F15,30)-1),Listas!$G$4:$J$11,2,FALSE)) -> 0 | H15: =IF(F15="",0,VLOOKUP(LEFT(F15,FIND(" - ",F15,30)-1),Listas!$G$4:$J$11,3,FALSE)) -> 0 | I15: =IF(F15="",0,VLOOKUP(LEFT(F15,FIND(" - ",F15,30)-1),Listas!$G$4:$J$11,4,FALSE)) -> 0 | K15: =I15*J15 -> 0 | M15: =I15*L15 -> 0 | O15: =I15*N15 -> 0 | P15: =#REF!+O15+M15+K15 -> #REF!
G16: =IF(F16="",0,VLOOKUP(LEFT(F16,FIND(" - ",F16,30)-1),Listas!$G$4:$J$11,2,FALSE)) -> 0 | H16: =IF(F16="",0,VLOOKUP(LEFT(F16,FIND(" - ",F16,30)-1),Listas!$G$4:$J$11,3,FALSE)) -> 0 | I16: =IF(F16="",0,VLOOKUP(LEFT(F16,FIND(" - ",F16,30)-1),Listas!$G$4:$J$11,4,FALSE)) -> 0 | K16: =I16*J16 -> 0 | M16: =I16*L16 -> 0 | O16: =I16*N16 -> 0 | P16: =#REF!+O16+M16+K16 -> #REF!
G17: =IF(F17="",0,VLOOKUP(LEFT(F17,FIND(" - ",F17,30)-1),Listas!$G$4:$J$11,2,FALSE)) -> 0 | H17: =IF(F17="",0,VLOOKUP(LEFT(F17,FIND(" - ",F17,30)-1),Listas!$G$4:$J$11,3,FALSE)) -> 0 | I17: =IF(F17="",0,VLOOKUP(LEFT(F17,FIND(" - ",F17,30)-1),Listas!$G$4:$J$11,4,FALSE)) -> 0 | K17: =I17*J17 -> 0 | M17: =I17*L17 -> 0 | O17: =I17*N17 -> 0 | P17: =#REF!+O17+M17+K17 -> #REF!
G18: =IF(F18="",0,VLOOKUP(LEFT(F18,FIND(" - ",F18,30)-1),Listas!$G$4:$J$11,2,FALSE)) -> 0 | H18: =IF(F18="",0,VLOOKUP(LEFT(F18,FIND(" - ",F18,30)-1),Listas!$G$4:$J$11,3,FALSE)) -> 0 | I18: =IF(F18="",0,VLOOKUP(LEFT(F18,FIND(" - ",F18,30)-1),Listas!$G$4:$J$11,4,FALSE)) -> 0 | K18: =I18*J18 -> 0 | M18: =I18*L18 -> 0 | O18: =I18*N18 -> 0 | P18: =#REF!+O18+M18+K18 -> #REF!
G19: =IF(F19="",0,VLOOKUP(LEFT(F19,FIND(" - ",F19,30)-1),Listas!$G$4:$J$11,2,FALSE)) -> 0 | H19: =IF(F19="",0,VLOOKUP(LEFT(F19,FIND(" - ",F19,30)-1),Listas!$G$4:$J$11,3,FALSE)) -> 0 | I19: =IF(F19="",0,VLOOKUP(LEFT(F19,FIND(" - ",F19,30)-1),Listas!$G$4:$J$11,4,FALSE)) -> 0 | K19: =I19*J19 -> 0 | M19: =I19*L19 -> 0 | O19: =I19*N19 -> 0 | P19: =#REF!+O19+M19+K19 -> #REF!
I20: TOTAL | K20: =SUM(K12:K19) -> 0 | M20: =SUM(M12:M19) -> 0 | O20: =SUM(O12:O19) -> 0 | P20: =SUM(P12:P19) -> #REF!
F23: Custos Pessoal Temporário - Bolsas (Novas contratações )
B24: BOLSAS FCT
B25: Ao orçamentar bolseiros segundo o regulamento FCT, devem seguir obrigatoriamente o Regulamento de Bolsas de Investigação da FCT e o Estatuto do Bolseiro de Investigação (EBI)
B27: Tipo de Despesa | C27: NOTA | D27: Tarefas | E27: Tipo de Bolsa | F27: Valor Mensal da Bolsa | G27: Seguro Social Voluntário Mensal | H27: Seguro Acidentes Pessoais (Anual) | I27: 2027 | K27: 2028 | M27: 2029 | O27: Custo envolvido (Bolsa)
I28: Nº Meses | J28: Valor | K28: Nº Meses | L28: Valor | M28: Nº Meses | N28: Valor
B29: Recursos Humanos Contratação de Bolseiros REGULAMENTO FCT | C29: Ao seguir o Regulamento de Bolsas de Investigação da FCT, é obrigatória a aplicação dos valores por esta estipulados. Não é permitida a sua alteração. | E29: (BI - FCT) Bolsa de Investigação Doutores | F29: =IF($E29="",0,VLOOKUP($E29,Listas!$G$15:$H$19,2,FALSE)) -> 1951 | G29: =IF($E29="",0,VLOOKUP($E29,Listas!$G$15:$I$19,3,FALSE())) -> 158.99 | H29: =IF($E29="",0,VLOOKUP($E29,Listas!$G$15:$J$19,4,FALSE())) -> 75 | J29: =F29*I29+G29*I29+(H29/12*I29) -> 0 | L29: =IF(K29=0, 0, F29*K29 + G29*K29 + (H29/12*K29) + 50) -> 0 | N29: =IF(M29=0,0,F29*M29+G29*M29+(H29/12*M29)+100) -> 0 | O29: =J29+L29+N29 -> 0
F30: =IF($E30="",0,VLOOKUP($E30,Listas!$G$15:$H$19,2,FALSE)) -> 0 | G30: =IF($E30="",0,VLOOKUP($E30,Listas!$G$15:$I$19,3,FALSE())) -> 0 | H30: =IF($E30="",0,VLOOKUP($E30,Listas!$G$15:$J$19,4,FALSE())) -> 0 | J30: =F30*I30+G30*I30+(H30/12*I30) -> 0 | L30: =IF(K30=0, 0, F30*K30 + G30*K30 + (H30/12*K30) + 50) -> 0 | N30: =IF(M30=0,0,F30*M30+G30*M30+(H30/12*M30)+100) -> 0 | O30: =J30+L30+N30 -> 0
F31: =IF($E31="",0,VLOOKUP($E31,Listas!$G$15:$H$19,2,FALSE)) -> 0 | G31: =IF($E31="",0,VLOOKUP($E31,Listas!$G$15:$I$19,3,FALSE())) -> 0 | H31: =IF($E31="",0,VLOOKUP($E31,Listas!$G$15:$J$19,4,FALSE())) -> 0 | J31: =F31*I31+G31*I31+(H31/12*I31) -> 0 | L31: =IF(K31=0, 0, F31*K31 + G31*K31 + (H31/12*K31) + 50) -> 0 | N31: =IF(M31=0,0,F31*M31+G31*M31+(H31/12*M31)+100) -> 0 | O31: =J31+L31+N31 -> 0
F32: =IF($E32="",0,VLOOKUP($E32,Listas!$G$15:$H$19,2,FALSE)) -> 0 | G32: =IF($E32="",0,VLOOKUP($E32,Listas!$G$15:$I$19,3,FALSE())) -> 0 | H32: =IF($E32="",0,VLOOKUP($E32,Listas!$G$15:$J$19,4,FALSE())) -> 0 | J32: =F32*I32+G32*I32+(H32/12*I32) -> 0 | L32: =IF(K32=0, 0, F32*K32 + G32*K32 + (H32/12*K32) + 50) -> 0 | N32: =IF(M32=0,0,F32*M32+G32*M32+(H32/12*M32)+100) -> 0 | O32: =J32+L32+N32 -> 0
F33: =IF($E33="",0,VLOOKUP($E33,Listas!$G$15:$H$19,2,FALSE)) -> 0 | G33: =IF($E33="",0,VLOOKUP($E33,Listas!$G$15:$I$19,3,FALSE())) -> 0 | H33: =IF($E33="",0,VLOOKUP($E33,Listas!$G$15:$J$19,4,FALSE())) -> 0 | J33: =F33*I33+G33*I33+(H33/12*I33) -> 0 | L33: =IF(K33=0, 0, F33*K33 + G33*K33 + (H33/12*K33) + 50) -> 0 | N33: =IF(M33=0,0,F33*M33+G33*M33+(H33/12*M33)+100) -> 0 | O33: =J33+L33+N33 -> 0
H34: TOTAL | J34: =SUM(J29:J33) -> 0 | L34: =SUM(L29:L33) -> 0 | N34: =SUM(N29:N33) -> 0 | O34: =SUM(O29:O33) -> 0
B36: BOLSAS COFAC
B37: Ao orçamentar bolseiros segundo o regulamento COFAC, deem seguir obrigatoriamente o Regulamento de Bolsas de Investigação (Ordem de Serviço nº.98/2025) e o Estatuto de Bolseiro de Investigação (Ordem de Serviço nº.97/2025)
B39: Tipo de Despesa | C39: NOTA | D39: Tarefas | E39: Tipo de Bolsa | F39: Valor Mensal da Bolsa | G39: Seguro Social Voluntário Mensal | H39: Seguro Acidentes Pessoais (Anual) | I39: 2027 | K39: 2028 | M39: 2029 | O39: Custo envolvido (Bolsa)
I40: Nº Meses | J40: Valor | K40: Nº Meses | L40: Valor | M40: Nº Meses | N40: Valor
B41: Recursos Humanos Contratação de Bolseiros REGULAMENTO COFAC | C41: Ao seguir o Regulamento de Bolsas de Investigação da COFAC, é permitida a definição livre dos valores. | F41: =IF(E41="",0,"") -> 0 | G41: 0 | H41: =IF(E41="",0,Listas!$J$15) -> 0 | J41: =F41*I41+G41*I41+(H41/12*I41) -> 0 | L41: =IF(K41=0, 0, F41*K41 + G41*K41 + (H41/12*K41)) -> 0 | N41: =IF(M41=0,0,F41*M41+G41*M41+(H41/12*M41)) -> 0 | O41: =J41+L41+N41 -> 0
F42: =IF(E42="",0,"") -> 0 | G42: 0 | H42: =IF(E42="",0,Listas!$J$15) -> 0 | J42: =F42*I42+G42*I42+(H42/12*I42) -> 0 | L42: =IF(K42=0, 0, F42*K42 + G42*K42 + (H42/12*K42)) -> 0 | N42: =IF(M42=0,0,F42*M42+G42*M42+(H42/12*M42)) -> 0 | O42: =J42+L42+N42 -> 0
F43: =IF(E43="",0,"") -> 0 | G43: 0 | H43: =IF(E43="",0,Listas!$J$15) -> 0 | J43: =F43*I43+G43*I43+(H43/12*I43) -> 0 | L43: =IF(K43=0, 0, F43*K43 + G43*K43 + (H43/12*K43)) -> 0 | N43: =IF(M43=0,0,F43*M43+G43*M43+(H43/12*M43)) -> 0 | O43: =J43+L43+N43 -> 0
F44: =IF(E44="",0,"") -> 0 | G44: 0 | H44: =IF(E44="",0,Listas!$J$15) -> 0 | J44: =F44*I44+G44*I44+(H44/12*I44) -> 0 | L44: =IF(K44=0, 0, F44*K44 + G44*K44 + (H44/12*K44)) -> 0 | N44: =IF(M44=0,0,F44*M44+G44*M44+(H44/12*M44)) -> 0 | O44: =J44+L44+N44 -> 0
F45: =IF(E45="",0,"") -> 0 | G45: 0 | H45: =IF(E45="",0,Listas!$J$15) -> 0 | J45: =F45*I45+G45*I45+(H45/12*I45) -> 0 | L45: =IF(K45=0, 0, F45*K45 + G45*K45 + (H45/12*K45)) -> 0 | N45: =IF(M45=0,0,F45*M45+G45*M45+(H45/12*M45)) -> 0 | O45: =J45+L45+N45 -> 0
H46: TOTAL | J46: =SUM(J41:J45) -> 0 | L46: =SUM(L41:L45) -> 0 | N46: =SUM(N41:N45) -> 0 | O46: =SUM(O41:O45) -> 0
B48: Outros Custos
B51: Tipo de Despesa | C51: Tarefa | D51: Ano | E51: Descrição | G51: Valor | I51: Classificação das Despesas | L51: GERAL | O51: Total
C52: 2 | L52: =Listas!$J$39 -> 2027 | M52: =Listas!$J$40 -> 2028 | N52: =Listas!$J$41 -> 2029
B53: Demonstração, promoção e divulgação | I53: Recursos Humanos | L53: =J34+J46 -> 0 | M53: =L34+L46 -> 0 | N53: =N34+N46 -> 0 | O53: =L53+M53+N53 -> 0
...
